BEGIN:VCALENDAR
VERSION:2.0
PRODID:-//NorthEast Texas Trail Coalition - ECPv6.15.20//NONSGML v1.0//EN
CALSCALE:GREGORIAN
METHOD:PUBLISH
X-ORIGINAL-URL:https://netexastrail.org
X-WR-CALDESC:Events for NorthEast Texas Trail Coalition
REFRESH-INTERVAL;VALUE=DURATION:PT1H
X-Robots-Tag:noindex
X-PUBLISHED-TTL:PT1H
BEGIN:VTIMEZONE
TZID:America/Chicago
BEGIN:DAYLIGHT
TZOFFSETFROM:-0600
TZOFFSETTO:-0500
TZNAME:CDT
DTSTART:20180311T080000
END:DAYLIGHT
BEGIN:STANDARD
TZOFFSETFROM:-0500
TZOFFSETTO:-0600
TZNAME:CST
DTSTART:20181104T070000
END:STANDARD
BEGIN:DAYLIGHT
TZOFFSETFROM:-0600
TZOFFSETTO:-0500
TZNAME:CDT
DTSTART:20190310T080000
END:DAYLIGHT
BEGIN:STANDARD
TZOFFSETFROM:-0500
TZOFFSETTO:-0600
TZNAME:CST
DTSTART:20191103T070000
END:STANDARD
BEGIN:DAYLIGHT
TZOFFSETFROM:-0600
TZOFFSETTO:-0500
TZNAME:CDT
DTSTART:20200308T080000
END:DAYLIGHT
BEGIN:STANDARD
TZOFFSETFROM:-0500
TZOFFSETTO:-0600
TZNAME:CST
DTSTART:20201101T070000
END:STANDARD
BEGIN:DAYLIGHT
TZOFFSETFROM:-0600
TZOFFSETTO:-0500
TZNAME:CDT
DTSTART:20210314T080000
END:DAYLIGHT
BEGIN:STANDARD
TZOFFSETFROM:-0500
TZOFFSETTO:-0600
TZNAME:CST
DTSTART:20211107T070000
END:STANDARD
BEGIN:DAYLIGHT
TZOFFSETFROM:-0600
TZOFFSETTO:-0500
TZNAME:CDT
DTSTART:20220313T080000
END:DAYLIGHT
BEGIN:STANDARD
TZOFFSETFROM:-0500
TZOFFSETTO:-0600
TZNAME:CST
DTSTART:20221106T070000
END:STANDARD
BEGIN:DAYLIGHT
TZOFFSETFROM:-0600
TZOFFSETTO:-0500
TZNAME:CDT
DTSTART:20230312T080000
END:DAYLIGHT
BEGIN:STANDARD
TZOFFSETFROM:-0500
TZOFFSETTO:-0600
TZNAME:CST
DTSTART:20231105T070000
END:STANDARD
END:VTIMEZONE
BEGIN:VEVENT
DTSTART;TZID=America/Chicago:20221008T070000
DTEND;TZID=America/Chicago:20221008T170000
DTSTAMP:20260422T064702
CREATED:20220902T223823Z
LAST-MODIFIED:20220902T223823Z
UID:3797-1665212400-1665248400@netexastrail.org
SUMMARY:Biketober Fest
DESCRIPTION:
URL:https://netexastrail.org/event/biketober-fest/
LOCATION:105 West Garner\, Detroit. TX\, 105 West Garner\, Detroit\, TX\, 75436\, United States
CATEGORIES:Bike Rides
ATTACH;FMTTYPE=image/jpeg:https://netexastrail.org/wp-content/uploads/2022/09/BDFFBA22-B0EE-4B7F-B074-AFE26E59FDD4.jpg
END:VEVENT
BEGIN:VEVENT
DTSTART;TZID=America/Chicago:20220430T080000
DTEND;TZID=America/Chicago:20220430T140000
DTSTAMP:20260422T064702
CREATED:20220217T164423Z
LAST-MODIFIED:20220411T190029Z
UID:3769-1651305600-1651327200@netexastrail.org
SUMMARY:Gran Fondo 50
DESCRIPTION:Join us in a celebratory ride to celebrate of the completion of the 50 mile stretch of the Northeast Texas Trail from Roxton to Clarksville! \nThis event page will serve as a platform for information and discussion for all involved & participating in this event. \nIt is a non-supported ride with no fee at all\, so make personal plans for your ride. You can start where you want and ride far as you want. Each trail town will provide a refreshment location and other perks for the riders that come through. \nTrail towns include: Clarksville\, Bagwell\, Detroit\, Blossom\, Reno\, Paris\, and Roxton \nPREREGISTER FOR A REWARD:\nThose who preregister will be able to collect commemorative buttons in each trail town. If you collect all seven buttons\, present those to a trail town monitor and you will be put into a drawing for a prize from Cycle Works Paris valued at $100! \nPreregister HERE\nThere will be a commemorative tshirt for the Gran Fondo 50 that can be purchased from the online store with Screen Graphics. All trail towns will be highlighted on the shirt. \nWhat a great way to get out with the family\, ride together\, and celebrate new sections of the Northeast Texas Trail! Make plans for your pickup and other needs that you may have out on the trail depending on your distance. \n \n \nClick Here to Schedule a Shuttle Ride
URL:https://netexastrail.org/event/gran-fondo-50/
LOCATION:Trail de Paris\, 1230 SE 24th Street\, Paris\, TX\, 75460\, United States
CATEGORIES:Bagwell,Bike Rides,Blossom,Clarksville,Detroit,Paris,Reno,Roxton
ATTACH;FMTTYPE=image/png:https://netexastrail.org/wp-content/uploads/2022/02/20220216_144718_0000.png
END:VEVENT
BEGIN:VEVENT
DTSTART;VALUE=DATE:20210918
DTEND;VALUE=DATE:20210919
DTSTAMP:20260422T064702
CREATED:20210817T152439Z
LAST-MODIFIED:20210817T153125Z
UID:3722-1631923200-1632009599@netexastrail.org
SUMMARY:Greenville Night Grinder
DESCRIPTION:The Greenville Night Grinder is an important fundraiser for the Chaparral Rail Trail section of the NETT & we’re really hoping for a great turnout. \nInformation for the event can be found at:\nhttps://cottonpatchchallenge.com/greenville-night-grinder/
URL:https://netexastrail.org/event/greenville-night-grinder/
LOCATION:Landon Winery\, 2508 Lee St\, Greenville\, 75401
CATEGORIES:Bike Rides,Greenville
ATTACH;FMTTYPE=image/png:https://netexastrail.org/wp-content/uploads/2021/08/greenville-night-grinder-logo.png
END:VEVENT
BEGIN:VEVENT
DTSTART;TZID=America/Chicago:20201024T030000
DTEND;TZID=America/Chicago:20201024T120000
DTSTAMP:20260422T064702
CREATED:20200907T082027Z
LAST-MODIFIED:20200907T082027Z
UID:3511-1603508400-1603540800@netexastrail.org
SUMMARY:Trick It Up Bike Ride
DESCRIPTION:
URL:https://netexastrail.org/event/trick-it-up-bike-ride/
LOCATION:Farmersville Chamber of Commerce\, Farmersville\, TX\, TX\, United States
CATEGORIES:Bike Rides,Farmersville
END:VEVENT
BEGIN:VEVENT
DTSTART;TZID=America/Chicago:20200927T030000
DTEND;TZID=America/Chicago:20200927T090000
DTSTAMP:20260422T064702
CREATED:20200907T073943Z
LAST-MODIFIED:20200907T073943Z
UID:3498-1601175600-1601197200@netexastrail.org
SUMMARY:Hell of North Texas
DESCRIPTION:
URL:https://netexastrail.org/event/hell-of-north-texas/
LOCATION:Love Civic Center Pavilion\, 2025 S. Collegiate Dr\, Paris\, TX\, 75460\, United States
CATEGORIES:Bike Rides,Paris
END:VEVENT
BEGIN:VEVENT
DTSTART;TZID=America/Chicago:20200926T030000
DTEND;TZID=America/Chicago:20200926T110000
DTSTAMP:20260422T064702
CREATED:20200907T072708Z
LAST-MODIFIED:20200907T072809Z
UID:3494-1601089200-1601118000@netexastrail.org
SUMMARY:36th Annual Tour de Paris Bike Rally
DESCRIPTION:
URL:https://netexastrail.org/event/36th-annual-tour-de-paris-bike-rally/
LOCATION:Love Civic Center Trailhead\, 2025 S. Collegiate Drive\, Paris\, TX\, 75460\, United States
CATEGORIES:Bike Rides
END:VEVENT
BEGIN:VEVENT
DTSTART;TZID=America/Chicago:20200919T030000
DTEND;TZID=America/Chicago:20200919T090000
DTSTAMP:20260422T064702
CREATED:20200907T070729Z
LAST-MODIFIED:20200907T070742Z
UID:3490-1600484400-1600506000@netexastrail.org
SUMMARY:24th Annual Cotton Patch Challenge
DESCRIPTION:
URL:https://netexastrail.org/event/24th-annual-cotton-patch-challenge/
LOCATION:Greenville\, TX
CATEGORIES:Bike Rides
END:VEVENT
BEGIN:VEVENT
DTSTART;TZID=America/Chicago:20190413T080000
DTEND;TZID=America/Chicago:20190413T110000
DTSTAMP:20260422T064702
CREATED:20190321T055552Z
LAST-MODIFIED:20190412T170247Z
UID:3096-1555142400-1555153200@netexastrail.org
SUMMARY:CELEBRATE OPENING DAY AT PARIS TRAIL FEST - CANCELLED!
DESCRIPTION:CANCELLED DUE TO RAIN!\nCelebrate national Opening Day for Trails and kick off the spring trail season at “Paris Trail Fest” on Saturday\, April 13th. The event features a free\, come-and-go family bike ride from 1-4pm at the Love Civic Center Trailhead. Festivities include live music\, giveaways\, tasty food vendors\, and a drawing for a specialized\, 24” 7-speed bicycle. Bike safety and registration stations under the pavilion. Lots of outdoor fun!!\nChildren under 12 must be accompanied by an adult. Helmets strongly recommended.\nThanks to our sponsor Health4U of Lamar County!\nThis event will be held RAIN OR SHINE under the Love Civic Center pavilion.
URL:https://netexastrail.org/event/celebrate-opening-day-at-paris-trail-fest/
LOCATION:Love Civic Center Trailhead\, 2015 S. Collegiate Drive\, Paris\, TX\, 75460\, United States
CATEGORIES:Bike Rides,Paris,Trail Fun
END:VEVENT
BEGIN:VEVENT
DTSTART;TZID=America/Chicago:20190413T060000
DTEND;TZID=America/Chicago:20190413T060000
DTSTAMP:20260422T064702
CREATED:20190226T224744Z
LAST-MODIFIED:20190227T095323Z
UID:3053-1555135200-1555135200@netexastrail.org
SUMMARY:LADONIA MARDI GRAS OPENING DAY FOR TRAILS CELEBRATION
DESCRIPTION:Laissez bon temps rouler!   \nLet the good times roll! \nApril 13th from 11am-2pm at the Ladonia Depot \nCome hike or bike the lovely Ladonia Trail and celebrate Opening Day for Trails in Mardi Gras style! \nOur friends at the City of Ladonia will be serving up pulled pork sandwich meal deals for $5 and they will have other goodies available PLUS plenty of mardi gras beads for everyone.
URL:https://netexastrail.org/event/ladonia-mardi-gras-opening-day-for-trails-celebration/
LOCATION:Ladonia Depot\, 100 Center Plaza\, Ladonia\, TX\, 75449\, United States
CATEGORIES:Bike Rides,hike,Ladonia,Nature Walk,Trail Fun,walk
END:VEVENT
BEGIN:VEVENT
DTSTART;TZID=America/Chicago:20190413T040000
DTEND;TZID=America/Chicago:20190413T100000
DTSTAMP:20260422T064702
CREATED:20190214T082824Z
LAST-MODIFIED:20190215T040850Z
UID:2722-1555128000-1555149600@netexastrail.org
SUMMARY:AVERY VFD FISH FRY & GRAVEL GRIND BIKE RIDE
DESCRIPTION:Avery\nProceeds will benefit the Avery VFD\, which houses and maintains the AveryVFD Hostel.\nRoute follows the NETT North East Texas Trail and portions of the RAT (Ride across Texas) gravel routes.\nEast NETT ride will be 25 miles\, c-stores in Dekalb at 9 mile mark\, and there will be a rest stop at the 15.1 mile mark at Big Woods Church and route comes back by Avery VFD at 25 mile point for drinks etc.  Route maps available.  Ride routes will be marked with directional arrows. \nWest ride will be 13 miles. Some NETT Trail\, some pavement and a lot of gravel.\nThe route is mostly flat. \nWill be self-supported\,  SAG will available if needed  – just give us a call!\nContact Avery VFD for more info. (903.684.5131)
URL:https://netexastrail.org/event/avery-vfd-fish-fry-gravel-grind-bike-ride/
LOCATION:Avery VFD\, 135 N. Austin St\, Avery\, TX\, 75554\, United States
CATEGORIES:Avery,Bike Rides,Fundraisers,Trail Fun
END:VEVENT
END:VCALENDAR